BEGIN:VCALENDAR
VERSION:2.0
PRODID:-//Plone.org//NONSGML plone.app.event//EN
X-WR-TIMEZONE:Europe/Berlin
BEGIN:VEVENT
SUMMARY:Wissenschaftskommunikation – Öffentlichkeitswirksam präsentier
 en
DTSTART;TZID=Europe/Berlin:20200115T100000
DTEND;TZID=Europe/Berlin:20200115T110000
DTSTAMP:20260424T121749Z
UID:63c78038b527442ba01a8699825fa2ce@www.uni-marburg.de
ATTENDEE;CN="Katja John";ROLE=REQ-PARTICIPANT:Katja John
CREATED:20200115T095814Z
DESCRIPTION:https://www.uni-marburg.de/de/mara/aktuelles-mara/events/2018/
 programm-postdoc/wissenschaftskommunikation-oeffentlichkeitswirksam-praese
 ntieren\n
LAST-MODIFIED:20200115T101025Z
LOCATION:Philipps-Universität Marburg\, MARA\, F|05\, Deutschhausstr. 11+
 13\, 1. OG\, Seminarraum 01.0010
URL:https://www.uni-marburg.de/de/mara/aktuelles-mara/events/2018/programm
 -postdoc/wissenschaftskommunikation-oeffentlichkeitswirksam-praesentieren
END:VEVENT
BEGIN:VTIMEZONE
TZID:Europe/Berlin
X-LIC-LOCATION:Europe/Berlin
BEGIN:STANDARD
DTSTART:20191027T020000
TZNAME:CET
TZOFFSETFROM:+0200
TZOFFSETTO:+0100
END:STANDARD
END:VTIMEZONE
END:VCALENDAR
