BEGIN:VCALENDAR
VERSION:2.0
PRODID:-//Plone.org//NONSGML plone.app.event//EN
X-WR-TIMEZONE:Europe/Berlin
BEGIN:VEVENT
SUMMARY:Writing Lab – Producing an Academic Paper in the Humanities and 
 Social Sciences
DTSTART;TZID=Europe/Berlin:20190627T100000
DTEND;TZID=Europe/Berlin:20190628T173000
DTSTAMP:20260421T121046Z
UID:3b0cceaf5d124869ada7a8cef5c782f3@www.uni-marburg.de
ATTENDEE;CN="Stephan Elkins and Andrea Tönjes, www.english-academic-writi
 ng.de";ROLE=REQ-PARTICIPANT:Stephan Elkins and Andrea Tönjes, www.english
 -academic-writing.de
CREATED:20180110T100212Z
DESCRIPTION:https://www.uni-marburg.de/de/mara/aktuelles-mara/events/2019/
 programm-geistes-und-sozialwissenschaften/copy_of_writing-lab_producing_ac
 ademic_paper\n
LAST-MODIFIED:20190213T090819Z
LOCATION:Philipps-Universität Marburg\, MARA\, F|05\, Deutschhausstraße 
 11+13\, 1st floor\, seminar room 01.0030
URL:https://www.uni-marburg.de/de/mara/aktuelles-mara/events/2019/programm
 -geistes-und-sozialwissenschaften/copy_of_writing-lab_producing_academic_p
 aper
END:VEVENT
BEGIN:VTIMEZONE
TZID:Europe/Berlin
X-LIC-LOCATION:Europe/Berlin
BEGIN:DAYLIGHT
DTSTART:20190331T030000
TZNAME:CEST
TZOFFSETFROM:+0100
TZOFFSETTO:+0200
END:DAYLIGHT
END:VTIMEZONE
END:VCALENDAR
