BEGIN:VCALENDAR
VERSION:2.0
PRODID:-//Plone.org//NONSGML plone.app.event//EN
X-WR-TIMEZONE:Europe/Berlin
BEGIN:VEVENT
SUMMARY:Schreibwerkstatt – Der rote Faden in Texten der Geistes- und Soz
 ialwissenschaften
DTSTART;TZID=Europe/Berlin:20190329T090000
DTEND;TZID=Europe/Berlin:20190329T130000
DTSTAMP:20260424T190839Z
UID:bd2b0710ba4244e485891a6f28c7a265@www.uni-marburg.de
ATTENDEE;CN="Dr. Sylvia Langwald";ROLE=REQ-PARTICIPANT:Dr. Sylvia Langwald
CREATED:20180110T094845Z
DESCRIPTION:https://www.uni-marburg.de/de/mara/aktuelles-mara/events/2019/
 programm-geistes-und-sozialwissenschaften/der-rote-faden\n
LAST-MODIFIED:20181130T104352Z
LOCATION:Philipps-Universität Marburg\, MARA\, F|05\, Deutschhausstraße 
 11+13\, 1. OG\, Seminarraum 01.0030
URL:https://www.uni-marburg.de/de/mara/aktuelles-mara/events/2019/programm
 -geistes-und-sozialwissenschaften/der-rote-faden
END:VEVENT
BEGIN:VTIMEZONE
TZID:Europe/Berlin
X-LIC-LOCATION:Europe/Berlin
BEGIN:STANDARD
DTSTART:20181028T020000
TZNAME:CET
TZOFFSETFROM:+0200
TZOFFSETTO:+0100
END:STANDARD
END:VTIMEZONE
END:VCALENDAR
