BEGIN:VCALENDAR
VERSION:2.0
PRODID:-//Plone.org//NONSGML plone.app.event//EN
X-WR-TIMEZONE:Europe/Berlin
BEGIN:VEVENT
SUMMARY:Disputationstraining
DTSTART;TZID=Europe/Berlin:20190611T100000
DTEND;TZID=Europe/Berlin:20190612T163000
DTSTAMP:20260420T101441Z
UID:3cd2cca047d14580ad265e1246fbbf6a@www.uni-marburg.de
ATTENDEE;CN="Prof. Dr. Daniel Wrede, www.danielwre.de";ROLE=REQ-PARTICIPAN
 T:Prof. Dr. Daniel Wrede, www.danielwre.de
CREATED:20171219T113849Z
DESCRIPTION:https://www.uni-marburg.de/de/mara/aktuelles-mara/events/2019/
 programm-geistes-und-sozialwissenschaften/disputationstraining\n
LAST-MODIFIED:20190404T095510Z
LOCATION:Philipps-Universität Marburg\, MARA\, F|05\, Deutschhausstraße 
 11+13\, 1. OG\, Seminarraum 01.0010
URL:https://www.uni-marburg.de/de/mara/aktuelles-mara/events/2019/programm
 -geistes-und-sozialwissenschaften/disputationstraining
END:VEVENT
BEGIN:VTIMEZONE
TZID:Europe/Berlin
X-LIC-LOCATION:Europe/Berlin
BEGIN:DAYLIGHT
DTSTART:20190331T030000
TZNAME:CEST
TZOFFSETFROM:+0100
TZOFFSETTO:+0200
END:DAYLIGHT
END:VTIMEZONE
END:VCALENDAR
