BEGIN:VCALENDAR
VERSION:2.0
PRODID:-//Plone.org//NONSGML plone.app.event//EN
X-WR-TIMEZONE:Europe/Berlin
BEGIN:VEVENT
SUMMARY:Doing Your PhD in Germany
DTSTART;TZID=Europe/Berlin:20190401T093000
DTEND;TZID=Europe/Berlin:20190401T173000
DTSTAMP:20260419T181136Z
UID:9e7303a7c88e4931a3f6554a83cb3d90@www.uni-marburg.de
ATTENDEE;CN="Dr. Jan Schmidt, www.janschmidt-training.de";ROLE=REQ-PARTICI
 PANT:Dr. Jan Schmidt, www.janschmidt-training.de
CREATED:20180110T100212Z
DESCRIPTION:https://www.uni-marburg.de/de/mara/aktuelles-mara/events/2019/
 programm-geistes-und-sozialwissenschaften/doing_your_phd\n
LAST-MODIFIED:20190305T115827Z
LOCATION:Philipps-Universität Marburg\, MARA\, F|05\, Deutschhausstraße 
 11+13\, 1st floor\, seminar room 01.0030
URL:https://www.uni-marburg.de/de/mara/aktuelles-mara/events/2019/programm
 -geistes-und-sozialwissenschaften/doing_your_phd
END:VEVENT
BEGIN:VTIMEZONE
TZID:Europe/Berlin
X-LIC-LOCATION:Europe/Berlin
BEGIN:DAYLIGHT
DTSTART:20190331T030000
TZNAME:CEST
TZOFFSETFROM:+0100
TZOFFSETTO:+0200
END:DAYLIGHT
END:VTIMEZONE
END:VCALENDAR
