BEGIN:VCALENDAR
VERSION:2.0
PRODID:-//Plone.org//NONSGML plone.app.event//EN
X-WR-TIMEZONE:Europe/Berlin
BEGIN:VEVENT
SUMMARY:Finanzierung der Promotionsphase in den Geistes- und Sozialwissens
 chaften
DTSTART;TZID=Europe/Berlin:20190615T100000
DTEND;TZID=Europe/Berlin:20190615T140000
DTSTAMP:20260424T143127Z
UID:4a7da3ce1a6c40419e499177aea56abf@www.uni-marburg.de
ATTENDEE;CN="Dr. Julia Michael";ROLE=REQ-PARTICIPANT:Dr. Julia Michael
CREATED:20180110T112122Z
DESCRIPTION:https://www.uni-marburg.de/de/mara/aktuelles-mara/events/2019/
 programm-geistes-und-sozialwissenschaften/finanzierung-der-promotionsphase
 \n
LAST-MODIFIED:20181211T105009Z
LOCATION:Philipps-Universität Marburg\, MARA\, F|05\, Deutschhausstraße 
 11+13\, 1. OG\, Seminarraum 01.0010
URL:https://www.uni-marburg.de/de/mara/aktuelles-mara/events/2019/programm
 -geistes-und-sozialwissenschaften/finanzierung-der-promotionsphase
END:VEVENT
BEGIN:VTIMEZONE
TZID:Europe/Berlin
X-LIC-LOCATION:Europe/Berlin
BEGIN:DAYLIGHT
DTSTART:20190331T030000
TZNAME:CEST
TZOFFSETFROM:+0100
TZOFFSETTO:+0200
END:DAYLIGHT
END:VTIMEZONE
END:VCALENDAR
