BEGIN:VCALENDAR
VERSION:2.0
PRODID:-//Plone.org//NONSGML plone.app.event//EN
X-WR-TIMEZONE:Europe/Berlin
BEGIN:VEVENT
SUMMARY:GIMP – Einführung in die professionelle Bildbearbeitung
DTSTART;TZID=Europe/Berlin:20190729T090000
DTEND;TZID=Europe/Berlin:20190730T170000
DTSTAMP:20260421T160741Z
UID:b734eddcee7b45c7bf35fce3ffc9b851@www.uni-marburg.de
ATTENDEE;CN="Reinhard Walscheid";ROLE=REQ-PARTICIPANT:Reinhard Walscheid
CREATED:20180110T102010Z
DESCRIPTION:https://www.uni-marburg.de/de/mara/aktuelles-mara/events/2019/
 programm-geistes-und-sozialwissenschaften/gimp\n
LAST-MODIFIED:20190708T093057Z
LOCATION:Philipps-Universität Marburg\, MARA\, F|05\, Deutschhausstraße 
 11+13\, 1. OG\, Seminarraum 01.0010
URL:https://www.uni-marburg.de/de/mara/aktuelles-mara/events/2019/programm
 -geistes-und-sozialwissenschaften/gimp
END:VEVENT
BEGIN:VTIMEZONE
TZID:Europe/Berlin
X-LIC-LOCATION:Europe/Berlin
BEGIN:DAYLIGHT
DTSTART:20190331T030000
TZNAME:CEST
TZOFFSETFROM:+0100
TZOFFSETTO:+0200
END:DAYLIGHT
END:VTIMEZONE
END:VCALENDAR
