BEGIN:VCALENDAR
VERSION:2.0
PRODID:-//Plone.org//NONSGML plone.app.event//EN
X-WR-TIMEZONE:Europe/Berlin
BEGIN:VEVENT
SUMMARY:Layout mit InDesign – Professionelles Layout wissenschaftlicher 
 Texte
DTSTART;TZID=Europe/Berlin:20190225T093000
DTEND;TZID=Europe/Berlin:20190226T133000
DTSTAMP:20260420T020114Z
UID:bebd6c9ca8344dc48d13daef56b7e0f2@www.uni-marburg.de
ATTENDEE;CN="Helge Neubauer";ROLE=REQ-PARTICIPANT:Helge Neubauer
CREATED:20180110T102010Z
DESCRIPTION:https://www.uni-marburg.de/de/mara/aktuelles-mara/events/2019/
 programm-geistes-und-sozialwissenschaften/layout-mit-indesign\n
LAST-MODIFIED:20190319T125507Z
LOCATION:Philipps-Universität Marburg\, Centrum für Nah- und Mittelost-S
 tudien (CNMS)\, F|14\, Deutschhausstraße 12\, PC-Pool 00A19
URL:https://www.uni-marburg.de/de/mara/aktuelles-mara/events/2019/programm
 -geistes-und-sozialwissenschaften/layout-mit-indesign
END:VEVENT
BEGIN:VTIMEZONE
TZID:Europe/Berlin
X-LIC-LOCATION:Europe/Berlin
BEGIN:STANDARD
DTSTART:20181028T020000
TZNAME:CET
TZOFFSETFROM:+0200
TZOFFSETTO:+0100
END:STANDARD
END:VTIMEZONE
END:VCALENDAR
