BEGIN:VCALENDAR
VERSION:2.0
PRODID:-//Plone.org//NONSGML plone.app.event//EN
X-WR-TIMEZONE:Europe/Berlin
BEGIN:VEVENT
SUMMARY:MAXQDA – Einführung in die qualitative Inhaltsanalyse
DTSTART;TZID=Europe/Berlin:20190527T100000
DTEND;TZID=Europe/Berlin:20190528T170000
DTSTAMP:20260419T195801Z
UID:489c4def72b045628ea174112dc51639@www.uni-marburg.de
ATTENDEE;CN="Dr. Thorsten Dresing";ROLE=REQ-PARTICIPANT:Dr. Thorsten Dresi
 ng
CREATED:20180110T101511Z
DESCRIPTION:https://www.uni-marburg.de/de/mara/aktuelles-mara/events/2019/
 programm-geistes-und-sozialwissenschaften/maxqda\n
LAST-MODIFIED:20190404T095457Z
LOCATION:Philipps-Universität Marburg\, MARA\, F|05\, Deutschhausstraße 
 11+13\, 1. OG\, Seminarraum 01.0010
URL:https://www.uni-marburg.de/de/mara/aktuelles-mara/events/2019/programm
 -geistes-und-sozialwissenschaften/maxqda
END:VEVENT
BEGIN:VTIMEZONE
TZID:Europe/Berlin
X-LIC-LOCATION:Europe/Berlin
BEGIN:DAYLIGHT
DTSTART:20190331T030000
TZNAME:CEST
TZOFFSETFROM:+0100
TZOFFSETTO:+0200
END:DAYLIGHT
END:VTIMEZONE
END:VCALENDAR
