BEGIN:VCALENDAR
VERSION:2.0
PRODID:-//Plone.org//NONSGML plone.app.event//EN
X-WR-TIMEZONE:Europe/Berlin
BEGIN:VEVENT
SUMMARY:Schreibwerkstatt – Überblicksworkshop: Vom Entwurf bis zum Einr
 eichen der Dissertation
DTSTART;TZID=Europe/Berlin:20190715T103000
DTEND;TZID=Europe/Berlin:20190716T163000
DTSTAMP:20260421T184216Z
UID:d29c7455611641d28b0d62d651a48278@www.uni-marburg.de
ATTENDEE;CN="Dr. Melanie Brinkschulte";ROLE=REQ-PARTICIPANT:Dr. Melanie Br
 inkschulte
CREATED:20180518T095016Z
DESCRIPTION:https://www.uni-marburg.de/de/mara/aktuelles-mara/events/2019/
 programm-geistes-und-sozialwissenschaften/schreibwerkstatt-ueberblickswork
 shop\n
LAST-MODIFIED:20181211T102016Z
LOCATION:Philipps-Universität Marburg\, MARA\, F|05\, Deutschhausstraße 
 11+13\, 1. OG\, Seminarraum 01.0030
URL:https://www.uni-marburg.de/de/mara/aktuelles-mara/events/2019/programm
 -geistes-und-sozialwissenschaften/schreibwerkstatt-ueberblicksworkshop
END:VEVENT
BEGIN:VTIMEZONE
TZID:Europe/Berlin
X-LIC-LOCATION:Europe/Berlin
BEGIN:DAYLIGHT
DTSTART:20190331T030000
TZNAME:CEST
TZOFFSETFROM:+0100
TZOFFSETTO:+0200
END:DAYLIGHT
END:VTIMEZONE
END:VCALENDAR
