BEGIN:VCALENDAR
VERSION:2.0
PRODID:-//Plone.org//NONSGML plone.app.event//EN
X-WR-TIMEZONE:Europe/Berlin
BEGIN:VEVENT
SUMMARY:Souverän klären – Kommunizieren in kritischen Gesprächssituat
 ionen
DTSTART;TZID=Europe/Berlin:20190429T090000
DTEND;TZID=Europe/Berlin:20190429T170000
DTSTAMP:20260423T085225Z
UID:416b6ac97d0a44c4931d07d19e19dc95@www.uni-marburg.de
ATTENDEE;CN="Oliver Leibrecht, www.euton.de";ROLE=REQ-PARTICIPANT:Oliver L
 eibrecht, www.euton.de
CREATED:20180110T105349Z
DESCRIPTION:https://www.uni-marburg.de/de/mara/aktuelles-mara/events/2019/
 programm-geistes-und-sozialwissenschaften/souveraen-klaeren\n
LAST-MODIFIED:20190404T095452Z
LOCATION:Philipps-Universität Marburg\, MARA\, F|05\, Deutschhausstraße 
 11+13\, 1. OG\, Seminarraum 01.0010
URL:https://www.uni-marburg.de/de/mara/aktuelles-mara/events/2019/programm
 -geistes-und-sozialwissenschaften/souveraen-klaeren
END:VEVENT
BEGIN:VTIMEZONE
TZID:Europe/Berlin
X-LIC-LOCATION:Europe/Berlin
BEGIN:DAYLIGHT
DTSTART:20190331T030000
TZNAME:CEST
TZOFFSETFROM:+0100
TZOFFSETTO:+0200
END:DAYLIGHT
END:VTIMEZONE
END:VCALENDAR
