BEGIN:VCALENDAR
VERSION:2.0
PRODID:-//Plone.org//NONSGML plone.app.event//EN
X-WR-TIMEZONE:Europe/Berlin
BEGIN:VEVENT
SUMMARY:Speak Up! – Rhetoric Basics
DTSTART;TZID=Europe/Berlin:20190128T090000
DTEND;TZID=Europe/Berlin:20190129T180000
DTSTAMP:20260424T093045Z
UID:faf21aeaca364b32b852615b6e96f05f@www.uni-marburg.de
ATTENDEE;CN="Dr. Constanze Armbrecht";ROLE=REQ-PARTICIPANT:Dr. Constanze A
 rmbrecht
CREATED:20181128T092325Z
DESCRIPTION:https://www.uni-marburg.de/de/mara/aktuelles-mara/events/2019/
 programm-geistes-und-sozialwissenschaften/speak-up\n
LAST-MODIFIED:20181210T111156Z
LOCATION:Philipps-Universität Marburg\, MARA\, F|05\, Deutschhausstraße 
 11+13\, 1. OG\, Seminarraum 01.0010
URL:https://www.uni-marburg.de/de/mara/aktuelles-mara/events/2019/programm
 -geistes-und-sozialwissenschaften/speak-up
END:VEVENT
BEGIN:VTIMEZONE
TZID:Europe/Berlin
X-LIC-LOCATION:Europe/Berlin
BEGIN:STANDARD
DTSTART:20181028T020000
TZNAME:CET
TZOFFSETFROM:+0200
TZOFFSETTO:+0100
END:STANDARD
END:VTIMEZONE
END:VCALENDAR
