BEGIN:VCALENDAR
VERSION:2.0
PRODID:-//Plone.org//NONSGML plone.app.event//EN
X-WR-TIMEZONE:Europe/Berlin
BEGIN:VEVENT
SUMMARY:SPSS – Fortgeschrittene Datenanalyse
DTSTART;TZID=Europe/Berlin:20190917T093000
DTEND;TZID=Europe/Berlin:20190918T173000
DTSTAMP:20260421T081226Z
UID:0e8001ad8c3048faa5dc1bf7e4d503d9@www.uni-marburg.de
ATTENDEE;CN="Elisabeth Dittrich und Alexander Nolte";ROLE=REQ-PARTICIPANT:
 Elisabeth Dittrich und Alexander Nolte
CREATED:20180110T101511Z
DESCRIPTION:https://www.uni-marburg.de/de/mara/aktuelles-mara/events/2019/
 programm-geistes-und-sozialwissenschaften/spss_fortgeschritten\n
LAST-MODIFIED:20190627T070411Z
LOCATION:Philipps-Universität Marburg\, Centrum für Nah- und Mittelost-S
 tudien (CNMS)\, F|14\, Deutschhausstraße 12\, PC-Pool 00A12
URL:https://www.uni-marburg.de/de/mara/aktuelles-mara/events/2019/programm
 -geistes-und-sozialwissenschaften/spss_fortgeschritten
END:VEVENT
BEGIN:VTIMEZONE
TZID:Europe/Berlin
X-LIC-LOCATION:Europe/Berlin
BEGIN:DAYLIGHT
DTSTART:20190331T030000
TZNAME:CEST
TZOFFSETFROM:+0100
TZOFFSETTO:+0200
END:DAYLIGHT
END:VTIMEZONE
END:VCALENDAR
