BEGIN:VCALENDAR
VERSION:2.0
PRODID:-//Plone.org//NONSGML plone.app.event//EN
X-WR-TIMEZONE:Europe/Berlin
BEGIN:VEVENT
SUMMARY:Schreibwerkstatt – Wissenschaftlich schreiben: Merkmale der Wiss
 enschaftssprache in den Geistes- und Sozialwissenschaften
DTSTART;TZID=Europe/Berlin:20191031T090000
DTEND;TZID=Europe/Berlin:20191031T130000
DTSTAMP:20260424T234954Z
UID:fbb88e4724634f1f837579366097e497@www.uni-marburg.de
ATTENDEE;CN="Dr. Christine Noeres-Mühl";ROLE=REQ-PARTICIPANT:Dr. Christin
 e Noeres-Mühl
CREATED:20180110T094845Z
DESCRIPTION:https://www.uni-marburg.de/de/mara/aktuelles-mara/events/2019/
 programm-geistes-und-sozialwissenschaften/sw_wissenschaftlich_schreiben\n
LAST-MODIFIED:20190627T070055Z
LOCATION:Philipps-Universität Marburg\, MARA\, F|05\, Deutschhausstraße 
 11+13\, 1. OG\, Seminarraum 01.0030
URL:https://www.uni-marburg.de/de/mara/aktuelles-mara/events/2019/programm
 -geistes-und-sozialwissenschaften/sw_wissenschaftlich_schreiben
END:VEVENT
BEGIN:VTIMEZONE
TZID:Europe/Berlin
X-LIC-LOCATION:Europe/Berlin
BEGIN:STANDARD
DTSTART:20191027T020000
TZNAME:CET
TZOFFSETFROM:+0200
TZOFFSETTO:+0100
END:STANDARD
END:VTIMEZONE
END:VCALENDAR
