BEGIN:VCALENDAR
VERSION:2.0
PRODID:-//Plone.org//NONSGML plone.app.event//EN
X-WR-TIMEZONE:Europe/Berlin
BEGIN:VEVENT
SUMMARY:Welche Methode passt zu meiner Fragestellung? – Qualitative und 
 quantitative Methoden im Überblick
DTSTART;TZID=Europe/Berlin:20191014T093000
DTEND;TZID=Europe/Berlin:20191014T173000
DTSTAMP:20260420T201243Z
UID:80aa08d5807b400995364155c49c5fa7@www.uni-marburg.de
ATTENDEE;CN="Michaela Müller";ROLE=REQ-PARTICIPANT:Michaela Müller
CREATED:20171219T113849Z
DESCRIPTION:https://www.uni-marburg.de/de/mara/aktuelles-mara/events/2019/
 programm-geistes-und-sozialwissenschaften/welche-methode-qualitativ\n
LAST-MODIFIED:20190709T111007Z
LOCATION:Philipps-Universität Marburg\, MARA\, F|05\, Deutschhausstraße 
 11+13\, 1. OG\, Seminarraum 01.0030
URL:https://www.uni-marburg.de/de/mara/aktuelles-mara/events/2019/programm
 -geistes-und-sozialwissenschaften/welche-methode-qualitativ
END:VEVENT
BEGIN:VTIMEZONE
TZID:Europe/Berlin
X-LIC-LOCATION:Europe/Berlin
BEGIN:DAYLIGHT
DTSTART:20190331T030000
TZNAME:CEST
TZOFFSETFROM:+0100
TZOFFSETTO:+0200
END:DAYLIGHT
END:VTIMEZONE
END:VCALENDAR
