BEGIN:VCALENDAR
VERSION:2.0
PRODID:-//Plone.org//NONSGML plone.app.event//EN
X-WR-TIMEZONE:Europe/Berlin
BEGIN:VEVENT
SUMMARY:Critical Reasoning and Logic
DTSTART;TZID=Europe/Berlin:20191118T090000
DTEND;TZID=Europe/Berlin:20191119T170000
DTSTAMP:20260425T130626Z
UID:af5243faa2b74e46b1fbf303d0aeccc9@www.uni-marburg.de
ATTENDEE;CN="Dr. Malte Engel, www.argumentationskompetenz.de";ROLE=REQ-PAR
 TICIPANT:Dr. Malte Engel, www.argumentationskompetenz.de
CREATED:20181130T103506Z
DESCRIPTION:https://www.uni-marburg.de/de/mara/aktuelles-mara/events/2019/
 programm-lebens-und-naturwissenschaften/critical-reasoning\n
LAST-MODIFIED:20190627T083128Z
LOCATION:Philipps-Universität Marburg\, MARA\, F|05\, Deutschhausstraße 
 11+13\, 1st floor\, seminar room 01.0030
URL:https://www.uni-marburg.de/de/mara/aktuelles-mara/events/2019/programm
 -lebens-und-naturwissenschaften/critical-reasoning
END:VEVENT
BEGIN:VTIMEZONE
TZID:Europe/Berlin
X-LIC-LOCATION:Europe/Berlin
BEGIN:STANDARD
DTSTART:20191027T020000
TZNAME:CET
TZOFFSETFROM:+0200
TZOFFSETTO:+0100
END:STANDARD
END:VTIMEZONE
END:VCALENDAR
