BEGIN:VCALENDAR
VERSION:2.0
PRODID:-//Plone.org//NONSGML plone.app.event//EN
X-WR-TIMEZONE:Europe/Berlin
BEGIN:VEVENT
SUMMARY:Gute wissenschaftliche Praxis – Verantwortungsvoll promovieren
DTSTART;TZID=Europe/Berlin:20190520T091500
DTEND;TZID=Europe/Berlin:20190521T131500
DTSTAMP:20260424T172747Z
UID:45d032563d1542aeb081bd2b8e6e8114@www.uni-marburg.de
ATTENDEE;CN="Dr. Michael Gommel, www.michaelgommel.de";ROLE=REQ-PARTICIPAN
 T:Dr. Michael Gommel, www.michaelgommel.de
CREATED:20181130T094524Z
DESCRIPTION:https://www.uni-marburg.de/de/mara/aktuelles-mara/events/2019/
 programm-lebens-und-naturwissenschaften/gute-wissenschaftliche-praxis\n
LAST-MODIFIED:20190206T130542Z
LOCATION:Philipps-Universität Marburg\, MARA\, F|05\, Deutschhausstraße 
 11+13\, 1. OG\, Seminarraum 01.0010
URL:https://www.uni-marburg.de/de/mara/aktuelles-mara/events/2019/programm
 -lebens-und-naturwissenschaften/gute-wissenschaftliche-praxis
END:VEVENT
BEGIN:VTIMEZONE
TZID:Europe/Berlin
X-LIC-LOCATION:Europe/Berlin
BEGIN:DAYLIGHT
DTSTART:20190331T030000
TZNAME:CEST
TZOFFSETFROM:+0100
TZOFFSETTO:+0200
END:DAYLIGHT
END:VTIMEZONE
END:VCALENDAR
