BEGIN:VCALENDAR
VERSION:2.0
PRODID:-//Plone.org//NONSGML plone.app.event//EN
X-WR-TIMEZONE:Europe/Berlin
BEGIN:VEVENT
SUMMARY:Projektmanagement mit Lean Six Sigma
DTSTART;TZID=Europe/Berlin:20191209T093000
DTEND;TZID=Europe/Berlin:20191210T163000
DTSTAMP:20260425T055947Z
UID:cf9bd98e280e4493904c5f06d0abf130@www.uni-marburg.de
ATTENDEE;CN="Prof. Dr. Marcell Peuckert";ROLE=REQ-PARTICIPANT:Prof. Dr. Ma
 rcell Peuckert
CREATED:20181203T122828Z
DESCRIPTION:https://www.uni-marburg.de/de/mara/aktuelles-mara/events/2019/
 programm-lebens-und-naturwissenschaften/lean-six-sigma\n
LAST-MODIFIED:20190627T082620Z
LOCATION:Philipps-Universität Marburg\, MARA\, F|05\, Deutschhausstraße 
 11+13\, 1. OG\, Seminarraum 01.0010
URL:https://www.uni-marburg.de/de/mara/aktuelles-mara/events/2019/programm
 -lebens-und-naturwissenschaften/lean-six-sigma
END:VEVENT
BEGIN:VTIMEZONE
TZID:Europe/Berlin
X-LIC-LOCATION:Europe/Berlin
BEGIN:STANDARD
DTSTART:20191027T020000
TZNAME:CET
TZOFFSETFROM:+0200
TZOFFSETTO:+0100
END:STANDARD
END:VTIMEZONE
END:VCALENDAR
