BEGIN:VCALENDAR
VERSION:2.0
PRODID:-//Plone.org//NONSGML plone.app.event//EN
X-WR-TIMEZONE:Europe/Berlin
BEGIN:VEVENT
SUMMARY:Professional Networking
DTSTART;TZID=Europe/Berlin:20190902T090000
DTEND;TZID=Europe/Berlin:20190902T170000
DTSTAMP:20260425T163632Z
UID:81ee6c906f8e42f8aaaadef440d64b8c@www.uni-marburg.de
ATTENDEE;CN="Dr. Markus Gyger, www.gyger-training.de";ROLE=REQ-PARTICIPANT
 :Dr. Markus Gyger, www.gyger-training.de
CREATED:20181130T103506Z
DESCRIPTION:https://www.uni-marburg.de/de/mara/aktuelles-mara/events/2019/
 programm-lebens-und-naturwissenschaften/professional-networking\n
LAST-MODIFIED:20190627T083209Z
LOCATION:Philipps-Universität Marburg\, MARA\, F|05\, Deutschhausstraße 
 11+13\, 1st floor\, seminar room 01.0010
URL:https://www.uni-marburg.de/de/mara/aktuelles-mara/events/2019/programm
 -lebens-und-naturwissenschaften/professional-networking
END:VEVENT
BEGIN:VTIMEZONE
TZID:Europe/Berlin
X-LIC-LOCATION:Europe/Berlin
BEGIN:DAYLIGHT
DTSTART:20190331T030000
TZNAME:CEST
TZOFFSETFROM:+0100
TZOFFSETTO:+0200
END:DAYLIGHT
END:VTIMEZONE
END:VCALENDAR
