BEGIN:VCALENDAR
VERSION:2.0
PRODID:-//Plone.org//NONSGML plone.app.event//EN
X-WR-TIMEZONE:Europe/Berlin
BEGIN:VEVENT
SUMMARY:Writing Lab – Writing Scientific Publications in the Life and Na
 tural Sciences
DTSTART;TZID=Europe/Berlin:20191111T090000
DTEND;TZID=Europe/Berlin:20191112T160000
DTSTAMP:20260424T161514Z
UID:4445dd9ec8744e36b30e46e78fb0d65a@www.uni-marburg.de
ATTENDEE;CN="Dr. Melanie Lynn Conrad";ROLE=REQ-PARTICIPANT:Dr. Melanie Lyn
 n Conrad
CREATED:20181130T103506Z
DESCRIPTION:https://www.uni-marburg.de/de/mara/aktuelles-mara/events/2019/
 programm-lebens-und-naturwissenschaften/wl-scientific-publications\n
LAST-MODIFIED:20190627T082751Z
LOCATION:Philipps-Universität Marburg\, MARA\, F|05\, Deutschhausstraße 
 11+13\, 1st floor\, seminar room 01.0010
URL:https://www.uni-marburg.de/de/mara/aktuelles-mara/events/2019/programm
 -lebens-und-naturwissenschaften/wl-scientific-publications
END:VEVENT
BEGIN:VTIMEZONE
TZID:Europe/Berlin
X-LIC-LOCATION:Europe/Berlin
BEGIN:STANDARD
DTSTART:20191027T020000
TZNAME:CET
TZOFFSETFROM:+0200
TZOFFSETTO:+0100
END:STANDARD
END:VTIMEZONE
END:VCALENDAR
