BEGIN:VCALENDAR
VERSION:2.0
PRODID:-//Plone.org//NONSGML plone.app.event//EN
X-WR-TIMEZONE:Europe/Berlin
BEGIN:VEVENT
SUMMARY:MAXQDA – Einführung in die qualitative Inhaltsanalyse
DTSTART;TZID=Europe/Berlin:20200527T100000
DTEND;TZID=Europe/Berlin:20200528T170000
DTSTAMP:20260422T000549Z
UID:9cb0b41d86eb46b6a3fce9fab943b06e@www.uni-marburg.de
ATTENDEE;CN="Dr. Thorsten Dresing, www.audiotranskription.de";ROLE=REQ-PAR
 TICIPANT:Dr. Thorsten Dresing, www.audiotranskription.de
CREATED:20180110T101511Z
DESCRIPTION:https://www.uni-marburg.de/de/mara/aktuelles-mara/events/2020/
 programm-geistes-und-sozialwissenschaften/maxqda\n
LAST-MODIFIED:20200323T072459Z
LOCATION:Philipps-Universität Marburg\, MARA\, F|05\, Deutschhausstraße 
 11+13\, 1. OG\, Seminarraum 01.0010
URL:https://www.uni-marburg.de/de/mara/aktuelles-mara/events/2020/programm
 -geistes-und-sozialwissenschaften/maxqda
END:VEVENT
BEGIN:VTIMEZONE
TZID:Europe/Berlin
X-LIC-LOCATION:Europe/Berlin
BEGIN:DAYLIGHT
DTSTART:20200329T030000
TZNAME:CEST
TZOFFSETFROM:+0100
TZOFFSETTO:+0200
END:DAYLIGHT
END:VTIMEZONE
END:VCALENDAR
