BEGIN:VCALENDAR
VERSION:2.0
PRODID:-//Plone.org//NONSGML plone.app.event//EN
X-WR-TIMEZONE:Europe/Berlin
BEGIN:VEVENT
SUMMARY:Schreibwerkstatt – Artikel schreiben in den Geistes- und Sozialw
 issenschaften: Einsteigen und weiterschreiben
DTSTART;TZID=Europe/Berlin:20200424T090000
DTEND;TZID=Europe/Berlin:20200424T130000
DTSTAMP:20260422T005431Z
UID:9ed52fb37a464231b0c74248d1946422@www.uni-marburg.de
ATTENDEE;CN="Dr. Sylvia Langwald";ROLE=REQ-PARTICIPANT:Dr. Sylvia Langwald
CREATED:20190612T092814Z
DESCRIPTION:https://www.uni-marburg.de/de/mara/aktuelles-mara/events/2020/
 programm-geistes-und-sozialwissenschaften/sw-artikel-schreiben\n
LAST-MODIFIED:20200323T072442Z
LOCATION:Philipps-Universität Marburg\, MARA\, F|05\, Deutschhausstraße 
 11+13\, 1. OG\, Seminarraum 01.0030
URL:https://www.uni-marburg.de/de/mara/aktuelles-mara/events/2020/programm
 -geistes-und-sozialwissenschaften/sw-artikel-schreiben
END:VEVENT
BEGIN:VTIMEZONE
TZID:Europe/Berlin
X-LIC-LOCATION:Europe/Berlin
BEGIN:DAYLIGHT
DTSTART:20200329T030000
TZNAME:CEST
TZOFFSETFROM:+0100
TZOFFSETTO:+0200
END:DAYLIGHT
END:VTIMEZONE
END:VCALENDAR
