BEGIN:VCALENDAR
VERSION:2.0
PRODID:-//Plone.org//NONSGML plone.app.event//EN
X-WR-TIMEZONE:Europe/Berlin
BEGIN:VEVENT
SUMMARY:Wie frage ich? – Varianten qualitativer Interviews\, Leitfadenen
 twicklung und Interviewführung
DTSTART;TZID=Europe/Berlin:20200902T093000
DTEND;TZID=Europe/Berlin:20200903T163000
DTSTAMP:20260421T121939Z
UID:9a4386c5f2be4dad979045f4a26b9310@www.uni-marburg.de
ATTENDEE;CN="Dr. Sarah Weber, www.sarah-weber.net";ROLE=REQ-PARTICIPANT:Dr
 . Sarah Weber, www.sarah-weber.net
CREATED:20171219T113849Z
DESCRIPTION:https://www.uni-marburg.de/de/mara/aktuelles-mara/events/2020/
 programm-geistes-und-sozialwissenschaften/wie-frage-ich\n
LAST-MODIFIED:20200529T065324Z
LOCATION:Philipps-Universität Marburg\, MARA\, F|05\, Deutschhausstraße 
 11+13\, 1. OG\, Seminarraum 01.0010
URL:https://www.uni-marburg.de/de/mara/aktuelles-mara/events/2020/programm
 -geistes-und-sozialwissenschaften/wie-frage-ich
END:VEVENT
BEGIN:VTIMEZONE
TZID:Europe/Berlin
X-LIC-LOCATION:Europe/Berlin
BEGIN:DAYLIGHT
DTSTART:20200329T030000
TZNAME:CEST
TZOFFSETFROM:+0100
TZOFFSETTO:+0200
END:DAYLIGHT
END:VTIMEZONE
END:VCALENDAR
