BEGIN:VCALENDAR
VERSION:2.0
PRODID:-//Plone.org//NONSGML plone.app.event//EN
X-WR-TIMEZONE:Europe/Berlin
BEGIN:VEVENT
SUMMARY:BWL für Nicht-Betriebswissenschaftler/-innen – Online-Kurs
DTSTART;TZID=Europe/Berlin:20200629T090000
DTEND;TZID=Europe/Berlin:20200630T163000
DTSTAMP:20260425T222118Z
UID:a2de243b873f4cda84f1a54fd08d55e1@www.uni-marburg.de
ATTENDEE;CN="Ingo Schüler, www.iad.de";ROLE=REQ-PARTICIPANT:Ingo Schüler
 , www.iad.de
CREATED:20181130T095409Z
DESCRIPTION:https://www.uni-marburg.de/de/mara/aktuelles-mara/events/2020/
 programm-lebens-und-naturwissenschaften/bwl-fuer-nicht-betriebswissenschaf
 tler-innen\n
LAST-MODIFIED:20200528T141929Z
LOCATION:Online
URL:https://www.uni-marburg.de/de/mara/aktuelles-mara/events/2020/programm
 -lebens-und-naturwissenschaften/bwl-fuer-nicht-betriebswissenschaftler-inn
 en
END:VEVENT
BEGIN:VTIMEZONE
TZID:Europe/Berlin
X-LIC-LOCATION:Europe/Berlin
BEGIN:DAYLIGHT
DTSTART:20200329T030000
TZNAME:CEST
TZOFFSETFROM:+0100
TZOFFSETTO:+0200
END:DAYLIGHT
END:VTIMEZONE
END:VCALENDAR
