BEGIN:VCALENDAR
VERSION:2.0
PRODID:-//Plone.org//NONSGML plone.app.event//EN
X-WR-TIMEZONE:Europe/Berlin
BEGIN:VEVENT
SUMMARY:Gedruckt gut aussehen – Crashkurs Textgestaltung
DTSTART;TZID=Europe/Berlin:20200130T150000
DTEND;TZID=Europe/Berlin:20200130T190000
DTSTAMP:20260425T122443Z
UID:6461382384374ea38fd47e30b83a3589@www.uni-marburg.de
ATTENDEE;CN="Dr. Matthias Warkus, www.matthias-warkus.de";ROLE=REQ-PARTICI
 PANT:Dr. Matthias Warkus, www.matthias-warkus.de
CREATED:20181129T102614Z
DESCRIPTION:https://www.uni-marburg.de/de/mara/aktuelles-mara/events/2020/
 programm-lebens-und-naturwissenschaften/gedruckt-gut-aussehen\n
LAST-MODIFIED:20191127T103148Z
LOCATION:Philipps-Universität Marburg\, MARA\, F|05\, Deutschhausstraße 
 11+13\, 1. OG\, Seminarraum 01.0030
URL:https://www.uni-marburg.de/de/mara/aktuelles-mara/events/2020/programm
 -lebens-und-naturwissenschaften/gedruckt-gut-aussehen
END:VEVENT
BEGIN:VTIMEZONE
TZID:Europe/Berlin
X-LIC-LOCATION:Europe/Berlin
BEGIN:STANDARD
DTSTART:20191027T020000
TZNAME:CET
TZOFFSETFROM:+0200
TZOFFSETTO:+0100
END:STANDARD
END:VTIMEZONE
END:VCALENDAR
