BEGIN:VCALENDAR
VERSION:2.0
PRODID:-//Plone.org//NONSGML plone.app.event//EN
X-WR-TIMEZONE:Europe/Berlin
BEGIN:VEVENT
SUMMARY:Get that Job! – Applying & Interviewing for Positions in Industr
 y and Research
DTSTART;TZID=Europe/Berlin:20200417T090000
DTEND;TZID=Europe/Berlin:20200417T170000
DTSTAMP:20260424T074902Z
UID:789cc25a9499414a8d80c35e1f5f388d@www.uni-marburg.de
ATTENDEE;CN="Andrew Cerniski";ROLE=REQ-PARTICIPANT:Andrew Cerniski
CREATED:20181130T094847Z
DESCRIPTION:https://www.uni-marburg.de/de/mara/aktuelles-mara/events/2020/
 programm-lebens-und-naturwissenschaften/get-that-job\n
LAST-MODIFIED:20200407T093016Z
LOCATION:Philipps-Universität Marburg\, MARA\, F|05\, Deutschhausstraße 
 11+13\, 1. OG\, Seminarraum 01.0010
URL:https://www.uni-marburg.de/de/mara/aktuelles-mara/events/2020/programm
 -lebens-und-naturwissenschaften/get-that-job
END:VEVENT
BEGIN:VTIMEZONE
TZID:Europe/Berlin
X-LIC-LOCATION:Europe/Berlin
BEGIN:DAYLIGHT
DTSTART:20200329T030000
TZNAME:CEST
TZOFFSETFROM:+0100
TZOFFSETTO:+0200
END:DAYLIGHT
END:VTIMEZONE
END:VCALENDAR
