BEGIN:VCALENDAR
VERSION:2.0
PRODID:-//Plone.org//NONSGML plone.app.event//EN
X-WR-TIMEZONE:Europe/Berlin
BEGIN:VEVENT
SUMMARY:Get that Job! – Applying & Interviewing for Positions in Industr
 y and Research – Online Course
DTSTART;TZID=Europe/Berlin:20200904T090000
DTEND;TZID=Europe/Berlin:20200904T170000
DTSTAMP:20260424T045253Z
UID:30bd835552e54cd3ac3e956ef02f0b65@www.uni-marburg.de
ATTENDEE;CN="Andrew Cerniski";ROLE=REQ-PARTICIPANT:Andrew Cerniski
CREATED:20181130T093913Z
DESCRIPTION:https://www.uni-marburg.de/de/mara/aktuelles-mara/events/2020/
 programm-lebens-und-naturwissenschaften/get_that_job\n
LAST-MODIFIED:20200617T061101Z
LOCATION:Online
URL:https://www.uni-marburg.de/de/mara/aktuelles-mara/events/2020/programm
 -lebens-und-naturwissenschaften/get_that_job
END:VEVENT
BEGIN:VTIMEZONE
TZID:Europe/Berlin
X-LIC-LOCATION:Europe/Berlin
BEGIN:DAYLIGHT
DTSTART:20200329T030000
TZNAME:CEST
TZOFFSETFROM:+0100
TZOFFSETTO:+0200
END:DAYLIGHT
END:VTIMEZONE
END:VCALENDAR
