BEGIN:VCALENDAR
VERSION:2.0
PRODID:-//Plone.org//NONSGML plone.app.event//EN
X-WR-TIMEZONE:Europe/Berlin
BEGIN:VEVENT
SUMMARY:GMP\, GLP und GCP – Grundlagen und erweiterte Anforderungen in d
 er pharmazeutischen Industrie – Online-Kurs
DTSTART;TZID=Europe/Berlin:20201127T090000
DTEND;TZID=Europe/Berlin:20201128T170000
DTSTAMP:20260425T002917Z
UID:936d5be6992644978a2e8d859856ce29@www.uni-marburg.de
ATTENDEE;CN="Dr. Christoph Prinz";ROLE=REQ-PARTICIPANT:Dr. Christoph Prinz
ATTENDEE;CN="Dr. Heinrich Prinz";ROLE=REQ-PARTICIPANT:Dr. Heinrich Prinz
CREATED:20181203T122828Z
DESCRIPTION:https://www.uni-marburg.de/de/mara/aktuelles-mara/events/2020/
 programm-lebens-und-naturwissenschaften/gmp-glp-und-gcp_ersatz\n
LAST-MODIFIED:20200826T103459Z
LOCATION:Online
URL:https://www.uni-marburg.de/de/mara/aktuelles-mara/events/2020/programm
 -lebens-und-naturwissenschaften/gmp-glp-und-gcp_ersatz
END:VEVENT
BEGIN:VTIMEZONE
TZID:Europe/Berlin
X-LIC-LOCATION:Europe/Berlin
BEGIN:STANDARD
DTSTART:20201025T020000
TZNAME:CET
TZOFFSETFROM:+0200
TZOFFSETTO:+0100
END:STANDARD
END:VTIMEZONE
END:VCALENDAR
