BEGIN:VCALENDAR
VERSION:2.0
PRODID:-//Plone.org//NONSGML plone.app.event//EN
X-WR-TIMEZONE:Europe/Berlin
BEGIN:VEVENT
SUMMARY:How to Design Scientific Figures – Online Course
DTSTART;TZID=Europe/Berlin:20200730T090000
DTEND;TZID=Europe/Berlin:20200731T023000
DTSTAMP:20260421T084645Z
UID:25ad5bafeca647708eb3a9efe89d08a9@www.uni-marburg.de
ATTENDEE;CN="Dr. Susanne Berger, www.smukusch.de";ROLE=REQ-PARTICIPANT:Dr.
  Susanne Berger, www.smukusch.de
CREATED:20181130T095409Z
DESCRIPTION:https://www.uni-marburg.de/de/mara/aktuelles-mara/events/2020/
 programm-lebens-und-naturwissenschaften/how_design_figures\n
LAST-MODIFIED:20200617T061244Z
LOCATION:Online
URL:https://www.uni-marburg.de/de/mara/aktuelles-mara/events/2020/programm
 -lebens-und-naturwissenschaften/how_design_figures
END:VEVENT
BEGIN:VTIMEZONE
TZID:Europe/Berlin
X-LIC-LOCATION:Europe/Berlin
BEGIN:DAYLIGHT
DTSTART:20200329T030000
TZNAME:CEST
TZOFFSETFROM:+0100
TZOFFSETTO:+0200
END:DAYLIGHT
END:VTIMEZONE
END:VCALENDAR
