BEGIN:VCALENDAR
VERSION:2.0
PRODID:-//Plone.org//NONSGML plone.app.event//EN
X-WR-TIMEZONE:Europe/Berlin
BEGIN:VEVENT
SUMMARY:MATLAB – Einführung für Programmieranfänger/-innen
DTSTART;TZID=Europe/Berlin:20200324T100000
DTEND;TZID=Europe/Berlin:20200324T180000
DTSTAMP:20260422T075142Z
UID:6cb359f1d069422e9a2518457c51b056@www.uni-marburg.de
ATTENDEE;CN="Jan Eilbrecht";ROLE=REQ-PARTICIPANT:Jan Eilbrecht
CREATED:20181130T093331Z
DESCRIPTION:https://www.uni-marburg.de/de/mara/aktuelles-mara/events/2020/
 programm-lebens-und-naturwissenschaften/matlab\n
LAST-MODIFIED:20191127T155738Z
LOCATION:Fachbereich Psychologie\, Schulungsraum\, G|01\, Gutenbergstraße
  18\, PC-Pool R. 02058
URL:https://www.uni-marburg.de/de/mara/aktuelles-mara/events/2020/programm
 -lebens-und-naturwissenschaften/matlab
END:VEVENT
BEGIN:VTIMEZONE
TZID:Europe/Berlin
X-LIC-LOCATION:Europe/Berlin
BEGIN:STANDARD
DTSTART:20191027T020000
TZNAME:CET
TZOFFSETFROM:+0200
TZOFFSETTO:+0100
END:STANDARD
END:VTIMEZONE
END:VCALENDAR
