BEGIN:VCALENDAR
VERSION:2.0
PRODID:-//Plone.org//NONSGML plone.app.event//EN
X-WR-TIMEZONE:Europe/Berlin
BEGIN:VEVENT
SUMMARY:Promotion und dann? – Perspektiven und Impulse für die Karriere
 planung in den Lebens- und Naturwissenschaften – Online-Kurs
DTSTART;TZID=Europe/Berlin:20200722T090000
DTEND;TZID=Europe/Berlin:20200723T170000
DTSTAMP:20260424T091628Z
UID:2077af7a9cf0407594cfb2ffefe6877a@www.uni-marburg.de
ATTENDEE;CN="Dr. Christine Issa, www.saminworld.org";ROLE=REQ-PARTICIPANT:
 Dr. Christine Issa, www.saminworld.org
CREATED:20181130T095409Z
DESCRIPTION:https://www.uni-marburg.de/de/mara/aktuelles-mara/events/2020/
 programm-lebens-und-naturwissenschaften/promotion-und-dann\n
LAST-MODIFIED:20200525T072641Z
LOCATION:Online
URL:https://www.uni-marburg.de/de/mara/aktuelles-mara/events/2020/programm
 -lebens-und-naturwissenschaften/promotion-und-dann
END:VEVENT
BEGIN:VTIMEZONE
TZID:Europe/Berlin
X-LIC-LOCATION:Europe/Berlin
BEGIN:DAYLIGHT
DTSTART:20200329T030000
TZNAME:CEST
TZOFFSETFROM:+0100
TZOFFSETTO:+0200
END:DAYLIGHT
END:VTIMEZONE
END:VCALENDAR
