BEGIN:VCALENDAR
VERSION:2.0
PRODID:-//Plone.org//NONSGML plone.app.event//EN
X-WR-TIMEZONE:Europe/Berlin
BEGIN:VEVENT
SUMMARY:Wie funktionieren Unternehmen? – Mein Einstieg in die Wirtschaft
  – Online-Kurs
DTSTART;TZID=Europe/Berlin:20201019T090000
DTEND;TZID=Europe/Berlin:20201019T170000
DTSTAMP:20260421T173705Z
UID:875978bc723a481490b2b75194fc0da6@www.uni-marburg.de
ATTENDEE;CN="Dr. Martin Kaminski";ROLE=REQ-PARTICIPANT:Dr. Martin Kaminski
CREATED:20181130T095409Z
DESCRIPTION:https://www.uni-marburg.de/de/mara/aktuelles-mara/events/2020/
 programm-lebens-und-naturwissenschaften/unternehmen-einstieg\n
LAST-MODIFIED:20201015T064224Z
LOCATION:Online
URL:https://www.uni-marburg.de/de/mara/aktuelles-mara/events/2020/programm
 -lebens-und-naturwissenschaften/unternehmen-einstieg
END:VEVENT
BEGIN:VTIMEZONE
TZID:Europe/Berlin
X-LIC-LOCATION:Europe/Berlin
BEGIN:DAYLIGHT
DTSTART:20200329T030000
TZNAME:CEST
TZOFFSETFROM:+0100
TZOFFSETTO:+0200
END:DAYLIGHT
END:VTIMEZONE
END:VCALENDAR
