BEGIN:VCALENDAR
VERSION:2.0
PRODID:-//Plone.org//NONSGML plone.app.event//EN
X-WR-TIMEZONE:Europe/Berlin
BEGIN:VEVENT
SUMMARY:Writing Lab – From Idea to Text in the Life and Natural Sciences
  – Online course
DTSTART;TZID=Europe/Berlin:20200423T100000
DTEND;TZID=Europe/Berlin:20200423T140000
DTSTAMP:20260421T173858Z
UID:c66ec43eb663467997889082ce000be4@www.uni-marburg.de
ATTENDEE;CN="Prof. Dr. Annette Kolb, www.coachademics.de";ROLE=REQ-PARTICI
 PANT:Prof. Dr. Annette Kolb, www.coachademics.de
CREATED:20181130T094122Z
DESCRIPTION:https://www.uni-marburg.de/de/mara/aktuelles-mara/events/2020/
 programm-lebens-und-naturwissenschaften/wl-from-idea-to-text\n
LAST-MODIFIED:20200403T120004Z
LOCATION:Online
URL:https://www.uni-marburg.de/de/mara/aktuelles-mara/events/2020/programm
 -lebens-und-naturwissenschaften/wl-from-idea-to-text
END:VEVENT
BEGIN:VTIMEZONE
TZID:Europe/Berlin
X-LIC-LOCATION:Europe/Berlin
BEGIN:DAYLIGHT
DTSTART:20200329T030000
TZNAME:CEST
TZOFFSETFROM:+0100
TZOFFSETTO:+0200
END:DAYLIGHT
END:VTIMEZONE
END:VCALENDAR
