BEGIN:VCALENDAR
VERSION:2.0
PRODID:-//Plone.org//NONSGML plone.app.event//EN
X-WR-TIMEZONE:Europe/Berlin
BEGIN:VEVENT
SUMMARY:Writing Lab – Scientific Writing for the Life and Natural Scienc
 es
DTSTART;TZID=Europe/Berlin:20200403T090000
DTEND;TZID=Europe/Berlin:20200404T170000
DTSTAMP:20260422T075327Z
UID:f1eec94384454418a8731a8af7f7963c@www.uni-marburg.de
ATTENDEE;CN="Prof. Dr. Annette Kolb, www.coachademics.de";ROLE=REQ-PARTICI
 PANT:Prof. Dr. Annette Kolb, www.coachademics.de
CREATED:20181130T103506Z
DESCRIPTION:https://www.uni-marburg.de/de/mara/aktuelles-mara/events/2020/
 programm-lebens-und-naturwissenschaften/writing-lab-scientific-writing\n
LAST-MODIFIED:20191127T160536Z
LOCATION:Philipps-Universität Marburg\, MARA\, F|05\, Deutschhausstraße 
 11+13\, 1st floor\, seminar room 01.0010
URL:https://www.uni-marburg.de/de/mara/aktuelles-mara/events/2020/programm
 -lebens-und-naturwissenschaften/writing-lab-scientific-writing
END:VEVENT
BEGIN:VTIMEZONE
TZID:Europe/Berlin
X-LIC-LOCATION:Europe/Berlin
BEGIN:DAYLIGHT
DTSTART:20200329T030000
TZNAME:CEST
TZOFFSETFROM:+0100
TZOFFSETTO:+0200
END:DAYLIGHT
END:VTIMEZONE
END:VCALENDAR
