BEGIN:VCALENDAR
VERSION:2.0
PRODID:-//Plone.org//NONSGML plone.app.event//EN
X-WR-TIMEZONE:Europe/Berlin
BEGIN:VEVENT
SUMMARY:Bewerben um Promotionsstipendien – Online-Kurs
DTSTART;TZID=Europe/Berlin:20210607T090000
DTEND;TZID=Europe/Berlin:20210607T130000
DTSTAMP:20260421T184224Z
UID:1fc0c755cf08482688f26f7bcab19067@www.uni-marburg.de
ATTENDEE;CN="Dr. Andreas Stützer, www.selbstdenker.info";ROLE=REQ-PARTICI
 PANT:Dr. Andreas Stützer, www.selbstdenker.info
CREATED:20180110T094845Z
DESCRIPTION:https://www.uni-marburg.de/de/mara/aktuelles-mara/events/2021/
 programm-geistes-und-sozialwissenschaften/bewerben_promotionsstipendien\n
LAST-MODIFIED:20201209T105415Z
LOCATION:Online
URL:https://www.uni-marburg.de/de/mara/aktuelles-mara/events/2021/programm
 -geistes-und-sozialwissenschaften/bewerben_promotionsstipendien
END:VEVENT
BEGIN:VTIMEZONE
TZID:Europe/Berlin
X-LIC-LOCATION:Europe/Berlin
BEGIN:DAYLIGHT
DTSTART:20210328T030000
TZNAME:CEST
TZOFFSETFROM:+0100
TZOFFSETTO:+0200
END:DAYLIGHT
END:VTIMEZONE
END:VCALENDAR
