BEGIN:VCALENDAR
VERSION:2.0
PRODID:-//Plone.org//NONSGML plone.app.event//EN
X-WR-TIMEZONE:Europe/Berlin
BEGIN:VEVENT
SUMMARY:Finanzierung der Promotionsphase in den Geistes- und Sozialwissens
 chaften – Online-Kurs
DTSTART;TZID=Europe/Berlin:20210209T090000
DTEND;TZID=Europe/Berlin:20210209T130000
DTSTAMP:20260421T231336Z
UID:9070c1f5eff240b9af4d671421f43657@www.uni-marburg.de
ATTENDEE;CN="Dr. Andreas Stützer, www.selbstdenker.info";ROLE=REQ-PARTICI
 PANT:Dr. Andreas Stützer, www.selbstdenker.info
CREATED:20180110T094845Z
DESCRIPTION:https://www.uni-marburg.de/de/mara/aktuelles-mara/events/2021/
 programm-geistes-und-sozialwissenschaften/finanzierung_promotionsphase\n
LAST-MODIFIED:20201211T125320Z
LOCATION:Online
URL:https://www.uni-marburg.de/de/mara/aktuelles-mara/events/2021/programm
 -geistes-und-sozialwissenschaften/finanzierung_promotionsphase
END:VEVENT
BEGIN:VTIMEZONE
TZID:Europe/Berlin
X-LIC-LOCATION:Europe/Berlin
BEGIN:STANDARD
DTSTART:20201025T020000
TZNAME:CET
TZOFFSETFROM:+0200
TZOFFSETTO:+0100
END:STANDARD
END:VTIMEZONE
END:VCALENDAR
