BEGIN:VCALENDAR
VERSION:2.0
PRODID:-//Plone.org//NONSGML plone.app.event//EN
X-WR-TIMEZONE:Europe/Berlin
BEGIN:VEVENT
SUMMARY:Getting Started – Scientific Presentations Online – Online Cou
 rse
DTSTART;TZID=Europe/Berlin:20211007T093000
DTEND;TZID=Europe/Berlin:20211007T170000
DTSTAMP:20260422T025139Z
UID:feeda0bb4685444ea8741e06ab4208eb@www.uni-marburg.de
RRULE:FREQ=DAILY;COUNT=2
ATTENDEE;CN="Dr. Constanze Armbrecht";ROLE=REQ-PARTICIPANT:Dr. Constanze A
 rmbrecht
CREATED:20210628T095935Z
DESCRIPTION:https://www.uni-marburg.de/de/mara/aktuelles-mara/events/2021/
 programm-geistes-und-sozialwissenschaften/gs-scientific-presentations\n
LAST-MODIFIED:20210902T073810Z
LOCATION:Online
URL:https://www.uni-marburg.de/de/mara/aktuelles-mara/events/2021/programm
 -geistes-und-sozialwissenschaften/gs-scientific-presentations
END:VEVENT
BEGIN:VTIMEZONE
TZID:Europe/Berlin
X-LIC-LOCATION:Europe/Berlin
BEGIN:DAYLIGHT
DTSTART:20210328T030000
TZNAME:CEST
TZOFFSETFROM:+0100
TZOFFSETTO:+0200
END:DAYLIGHT
END:VTIMEZONE
END:VCALENDAR
