BEGIN:VCALENDAR
VERSION:2.0
PRODID:-//Plone.org//NONSGML plone.app.event//EN
X-WR-TIMEZONE:Europe/Berlin
BEGIN:VEVENT
SUMMARY:Meine Sichtbarkeit als wissenschaftliche Expertin auf LinkedIn & R
 esearchGate – Online-Kurs
DTSTART;TZID=Europe/Berlin:20211012T090000
DTEND;TZID=Europe/Berlin:20211012T121500
DTSTAMP:20260424T234326Z
UID:d3c51fc5dff844c3b89feec58bf0d858@www.uni-marburg.de
ATTENDEE;CN="Katja Wolter, www.steinbeis-inre.de";ROLE=REQ-PARTICIPANT:Kat
 ja Wolter, www.steinbeis-inre.de
CREATED:20210518T131640Z
DESCRIPTION:https://www.uni-marburg.de/de/mara/aktuelles-mara/events/2021/
 programm-geistes-und-sozialwissenschaften/meine-sichtbarkeit-als-wissensch
 aftliche-expertin\n
LAST-MODIFIED:20210902T074907Z
LOCATION:Online
URL:https://www.uni-marburg.de/de/mara/aktuelles-mara/events/2021/programm
 -geistes-und-sozialwissenschaften/meine-sichtbarkeit-als-wissenschaftliche
 -expertin
END:VEVENT
BEGIN:VTIMEZONE
TZID:Europe/Berlin
X-LIC-LOCATION:Europe/Berlin
BEGIN:DAYLIGHT
DTSTART:20210328T030000
TZNAME:CEST
TZOFFSETFROM:+0100
TZOFFSETTO:+0200
END:DAYLIGHT
END:VTIMEZONE
END:VCALENDAR
