BEGIN:VCALENDAR
VERSION:2.0
PRODID:-//Plone.org//NONSGML plone.app.event//EN
X-WR-TIMEZONE:Europe/Berlin
BEGIN:VEVENT
SUMMARY:Schreibwerkstatt – Veröffentlichen in Deutschland in den Geiste
 s- und Sozialwissenschaften – Online-Kurs
DTSTART;TZID=Europe/Berlin:20210323T091500
DTEND;TZID=Europe/Berlin:20210323T131500
DTSTAMP:20260421T113931Z
UID:2df53dd1504248bcba62298de9dbb3bc@www.uni-marburg.de
ATTENDEE;CN="Ina Beneke";ROLE=REQ-PARTICIPANT:Ina Beneke
ATTENDEE;CN="Norman Rinkenberger";ROLE=REQ-PARTICIPANT:Norman Rinkenberger
CREATED:20180110T094845Z
DESCRIPTION:https://www.uni-marburg.de/de/mara/aktuelles-mara/events/2021/
 programm-geistes-und-sozialwissenschaften/sw_veroeffentlichen\n
LAST-MODIFIED:20210210T131108Z
LOCATION:Online
URL:https://www.uni-marburg.de/de/mara/aktuelles-mara/events/2021/programm
 -geistes-und-sozialwissenschaften/sw_veroeffentlichen
END:VEVENT
BEGIN:VTIMEZONE
TZID:Europe/Berlin
X-LIC-LOCATION:Europe/Berlin
BEGIN:STANDARD
DTSTART:20201025T020000
TZNAME:CET
TZOFFSETFROM:+0200
TZOFFSETTO:+0100
END:STANDARD
END:VTIMEZONE
END:VCALENDAR
