BEGIN:VCALENDAR
VERSION:2.0
PRODID:-//Plone.org//NONSGML plone.app.event//EN
X-WR-TIMEZONE:Europe/Berlin
BEGIN:VEVENT
SUMMARY:Thesis-Defense Training – Online Course
DTSTART;TZID=Europe/Berlin:20210927T090000
DTEND;TZID=Europe/Berlin:20210928T170000
DTSTAMP:20260421T024535Z
UID:c1d06e43fc0e4b7aa02eea674430b937@www.uni-marburg.de
ATTENDEE;CN="Dr. Friederike Schmitz, www.argumentationskompetenz.de";ROLE=
 REQ-PARTICIPANT:Dr. Friederike Schmitz, www.argumentationskompetenz.de
CREATED:20181128T092325Z
DESCRIPTION:https://www.uni-marburg.de/de/mara/aktuelles-mara/events/2021/
 programm-geistes-und-sozialwissenschaften/thesis_defense\n
LAST-MODIFIED:20210902T081413Z
LOCATION:Online
URL:https://www.uni-marburg.de/de/mara/aktuelles-mara/events/2021/programm
 -geistes-und-sozialwissenschaften/thesis_defense
END:VEVENT
BEGIN:VTIMEZONE
TZID:Europe/Berlin
X-LIC-LOCATION:Europe/Berlin
BEGIN:DAYLIGHT
DTSTART:20210328T030000
TZNAME:CEST
TZOFFSETFROM:+0100
TZOFFSETTO:+0200
END:DAYLIGHT
END:VTIMEZONE
END:VCALENDAR
