BEGIN:VCALENDAR
VERSION:2.0
PRODID:-//Plone.org//NONSGML plone.app.event//EN
X-WR-TIMEZONE:Europe/Berlin
BEGIN:VEVENT
SUMMARY:Writing Lab – English Academic Writing for the Humanities and So
 cial Scienes – Online Course
DTSTART;TZID=Europe/Berlin:20211209T100000
DTEND;TZID=Europe/Berlin:20211209T153000
DTSTAMP:20260421T173857Z
UID:45978df9c59847118e9da445dceb0b78@www.uni-marburg.de
RRULE:FREQ=DAILY;COUNT=3;INTERVAL=3
RDATE;TZID=Europe/Berlin:20211210T100000,20211213T100000
EXDATE;TZID=Europe/Berlin:20211212T100000,20211215T100000
ATTENDEE;CN="Andrea Tönjes";ROLE=REQ-PARTICIPANT:Andrea Tönjes
ATTENDEE;CN="Stephan Elkins";ROLE=REQ-PARTICIPANT:Stephan Elkins
ATTENDEE;CN=www.english-academic-writing.de;ROLE=REQ-PARTICIPANT:www.engli
 sh-academic-writing.de
CREATED:20210628T091226Z
DESCRIPTION:https://www.uni-marburg.de/de/mara/aktuelles-mara/events/2021/
 programm-geistes-und-sozialwissenschaften/wl-english-academic-writing\n
LAST-MODIFIED:20210902T074620Z
LOCATION:Online
URL:https://www.uni-marburg.de/de/mara/aktuelles-mara/events/2021/programm
 -geistes-und-sozialwissenschaften/wl-english-academic-writing
END:VEVENT
BEGIN:VTIMEZONE
TZID:Europe/Berlin
X-LIC-LOCATION:Europe/Berlin
BEGIN:STANDARD
DTSTART:20211031T020000
TZNAME:CET
TZOFFSETFROM:+0200
TZOFFSETTO:+0100
END:STANDARD
END:VTIMEZONE
END:VCALENDAR
