BEGIN:VCALENDAR
VERSION:2.0
PRODID:-//Plone.org//NONSGML plone.app.event//EN
X-WR-TIMEZONE:Europe/Berlin
BEGIN:VEVENT
SUMMARY:Writing Lab – Producing an Academic Paper in the Humanities and 
 Social Sciences – Online Course
DTSTART;TZID=Europe/Berlin:20210616T100000
DTEND;TZID=Europe/Berlin:20210616T153000
DTSTAMP:20260421T214423Z
UID:0777d21a04d14687975276917c3e12b7@www.uni-marburg.de
RRULE:FREQ=DAILY;COUNT=7
EXDATE;TZID=Europe/Berlin:20210619T100000,20210620T100000,20210621T100000,
 20210622T100000
ATTENDEE;CN="Andrea Tönjes";ROLE=REQ-PARTICIPANT:Andrea Tönjes
ATTENDEE;CN="Stephan Elkins";ROLE=REQ-PARTICIPANT:Stephan Elkins
ATTENDEE;CN=www.english-academic-writing.de;ROLE=REQ-PARTICIPANT:www.engli
 sh-academic-writing.de
CREATED:20181128T092325Z
DESCRIPTION:https://www.uni-marburg.de/de/mara/aktuelles-mara/events/2021/
 programm-geistes-und-sozialwissenschaften/wl_producing_academic-paper\n
LAST-MODIFIED:20210204T143320Z
LOCATION:Online
URL:https://www.uni-marburg.de/de/mara/aktuelles-mara/events/2021/programm
 -geistes-und-sozialwissenschaften/wl_producing_academic-paper
END:VEVENT
BEGIN:VTIMEZONE
TZID:Europe/Berlin
X-LIC-LOCATION:Europe/Berlin
BEGIN:DAYLIGHT
DTSTART:20210328T030000
TZNAME:CEST
TZOFFSETFROM:+0100
TZOFFSETTO:+0200
END:DAYLIGHT
END:VTIMEZONE
END:VCALENDAR
