BEGIN:VCALENDAR
VERSION:2.0
PRODID:-//Plone.org//NONSGML plone.app.event//EN
X-WR-TIMEZONE:Europe/Berlin
BEGIN:VEVENT
SUMMARY:Project Management for Scientists – Online Course
DTSTART;TZID=Europe/Berlin:20210907T090000
DTEND;TZID=Europe/Berlin:20210907T160000
DTSTAMP:20260421T092719Z
UID:32c1bf24af774618b4e36052c1a9622e@www.uni-marburg.de
RRULE:FREQ=DAILY;COUNT=2
ATTENDEE;CN="Dr. Jan Schmidt, www.janschmidt-training.de";ROLE=REQ-PARTICI
 PANT:Dr. Jan Schmidt, www.janschmidt-training.de
CREATED:20210505T113542Z
DESCRIPTION:https://www.uni-marburg.de/de/mara/aktuelles-mara/events/2021/
 programm-lebens-und-naturwissenschaften/project-management-for-scientists\
 n
LAST-MODIFIED:20210802T082615Z
LOCATION:Online
URL:https://www.uni-marburg.de/de/mara/aktuelles-mara/events/2021/programm
 -lebens-und-naturwissenschaften/project-management-for-scientists
END:VEVENT
BEGIN:VTIMEZONE
TZID:Europe/Berlin
X-LIC-LOCATION:Europe/Berlin
BEGIN:DAYLIGHT
DTSTART:20210328T030000
TZNAME:CEST
TZOFFSETFROM:+0100
TZOFFSETTO:+0200
END:DAYLIGHT
END:VTIMEZONE
END:VCALENDAR
