BEGIN:VCALENDAR
VERSION:2.0
PRODID:-//Plone.org//NONSGML plone.app.event//EN
X-WR-TIMEZONE:Europe/Berlin
BEGIN:VEVENT
SUMMARY:The Basics of Science Communication
DTSTART;TZID=Europe/Berlin:20221125T090000
DTEND;TZID=Europe/Berlin:20221125T170000
DTSTAMP:20260420T174956Z
UID:ecfe0b4ec6354245aca8c9fde82ea50f@www.uni-marburg.de
ATTENDEE;CN="Dr. Elisabeth Hoffmann";ROLE=REQ-PARTICIPANT:Dr. Elisabeth Ho
 ffmann
CREATED:20180606T112752Z
DESCRIPTION:https://www.uni-marburg.de/de/mara/aktuelles-mara/events/2022/
 postdocprogramm/basics_science_comm\n
LAST-MODIFIED:20221109T174539Z
LOCATION:Online
URL:https://www.uni-marburg.de/de/mara/aktuelles-mara/events/2022/postdocp
 rogramm/basics_science_comm
END:VEVENT
BEGIN:VTIMEZONE
TZID:Europe/Berlin
X-LIC-LOCATION:Europe/Berlin
BEGIN:STANDARD
DTSTART:20221030T020000
TZNAME:CET
TZOFFSETFROM:+0200
TZOFFSETTO:+0100
END:STANDARD
END:VTIMEZONE
END:VCALENDAR
