BEGIN:VCALENDAR
VERSION:2.0
PRODID:-//Plone.org//NONSGML plone.app.event//EN
X-WR-TIMEZONE:Europe/Berlin
BEGIN:VEVENT
SUMMARY:Berufungstraining – Workshop und Einzelcoaching
DTSTART;TZID=Europe/Berlin:20221020T093000
DTEND;TZID=Europe/Berlin:20221020T163000
DTSTAMP:20260420T115129Z
UID:2d9ab874085f4713abd7c534d4cd67b1@www.uni-marburg.de
RRULE:FREQ=DAILY;COUNT=2
ATTENDEE;CN="Prof. Dr. Bärbel Schön";ROLE=REQ-PARTICIPANT:Prof. Dr. Bär
 bel Schön
ATTENDEE;CN=www.hochschulcoaching-marburg.de;ROLE=REQ-PARTICIPANT:www.hoch
 schulcoaching-marburg.de
CREATED:20181018T184907Z
DESCRIPTION:https://www.uni-marburg.de/de/mara/aktuelles-mara/events/2022/
 postdocprogramm/berufungstraining\nDieser Workshop unterstützt Sie auf Ih
 rem Weg zur eigenen (Tenure Track-)Professur.
LAST-MODIFIED:20221007T084320Z
LOCATION:MARA F|05\, Deutschhausstraße 11+13\, Seminarraum 01.0010
URL:https://www.uni-marburg.de/de/mara/aktuelles-mara/events/2022/postdocp
 rogramm/berufungstraining
END:VEVENT
BEGIN:VTIMEZONE
TZID:Europe/Berlin
X-LIC-LOCATION:Europe/Berlin
BEGIN:DAYLIGHT
DTSTART:20220327T030000
TZNAME:CEST
TZOFFSETFROM:+0100
TZOFFSETTO:+0200
END:DAYLIGHT
END:VTIMEZONE
END:VCALENDAR
