BEGIN:VCALENDAR
VERSION:2.0
PRODID:-//Plone.org//NONSGML plone.app.event//EN
X-WR-TIMEZONE:Europe/Berlin
BEGIN:VEVENT
SUMMARY:EMF – Anmeldung zum Zertifikatsprogramm EMF
DTSTART;VALUE=DATE:20230131
DTEND;VALUE=DATE:20230201
DTSTAMP:20260421T090939Z
UID:46b5d0c408104f7a832ec3725fb31c0f@www.uni-marburg.de
ATTENDEE;CN=verschiedene;ROLE=REQ-PARTICIPANT:verschiedene
CREATED:20181203T210138Z
DESCRIPTION:https://www.uni-marburg.de/de/mara/aktuelles-mara/events/2022/
 postdocprogramm/emf-anmeldung\nInformation zur Anmeldung zum Zertifikatspr
 ogramm EMF
LAST-MODIFIED:20221130T090443Z
LOCATION:Anmeldung online über die externe Datenbank Campus Events
URL:https://www.uni-marburg.de/de/mara/aktuelles-mara/events/2022/postdocp
 rogramm/emf-anmeldung
END:VEVENT
END:VCALENDAR
