BEGIN:VCALENDAR
VERSION:2.0
PRODID:-//Plone.org//NONSGML plone.app.event//EN
X-WR-TIMEZONE:Europe/Berlin
BEGIN:VEVENT
SUMMARY:EMF – Design of and Application for Third-Party-Funded Projects 
 – Event in Presence
DTSTART;TZID=Europe/Berlin:20220329T090000
DTEND;TZID=Europe/Berlin:20220329T170000
DTSTAMP:20260420T003036Z
UID:69b2dc10906a48749627858742a4f2a9@www.uni-marburg.de
RRULE:FREQ=DAILY;COUNT=1
RDATE;TZID=Europe/Berlin:20220426T090000
ATTENDEE;CN="Prof. Dr. Annette Kolb";ROLE=REQ-PARTICIPANT:Prof. Dr. Annett
 e Kolb
ATTENDEE;CN=www.coachademics.de;ROLE=REQ-PARTICIPANT:www.coachademics.de
ATTENDEE;CN=;ROLE=REQ-PARTICIPANT:
CREATED:20181203T210138Z
DESCRIPTION:https://www.uni-marburg.de/de/mara/aktuelles-mara/events/2022/
 postdocprogramm/emf-design-2022\nThis two-day event supports you in the (f
 urther) development of your own project idea\, the search for suitable fun
 ding opportunities and the preparation of your research proposal.\n– cou
 rse on 29.03.2022 is cancelled –
LAST-MODIFIED:20220606T112136Z
LOCATION:Day 1: Forschungszentrum Deutscher Sprachatlas\, Pilgrimstein 16\
 , 35037 Marburg\, Seminar room 001\;  Day 2: Universitätsbibliothek\, Deu
 tschhausstraße 9\, Vortragsraum B008
URL:https://www.uni-marburg.de/de/mara/aktuelles-mara/events/2022/postdocp
 rogramm/emf-design-2022
END:VEVENT
BEGIN:VTIMEZONE
TZID:Europe/Berlin
X-LIC-LOCATION:Europe/Berlin
BEGIN:DAYLIGHT
DTSTART:20220327T030000
TZNAME:CEST
TZOFFSETFROM:+0100
TZOFFSETTO:+0200
END:DAYLIGHT
END:VTIMEZONE
END:VCALENDAR
