BEGIN:VCALENDAR
VERSION:2.0
PRODID:-//Plone.org//NONSGML plone.app.event//EN
X-WR-TIMEZONE:Europe/Berlin
BEGIN:VEVENT
SUMMARY:EMF – Drittmittelanträge schreiben – Onlineveranstaltung
DTSTART;TZID=Europe/Berlin:20221111T090000
DTEND;TZID=Europe/Berlin:20221111T170000
DTSTAMP:20260420T225210Z
UID:db70f3c213384fb0a6b37520eafeaa47@www.uni-marburg.de
RRULE:FREQ=DAILY;COUNT=2
ATTENDEE;CN="Dr. Judith Theben";ROLE=REQ-PARTICIPANT:Dr. Judith Theben
CREATED:20180530T102217Z
DESCRIPTION:https://www.uni-marburg.de/de/mara/aktuelles-mara/events/2022/
 postdocprogramm/emf-drittmittelantraege-schreiben\nIn dieser Veranstaltung
  erhalten Sie nicht nur Einblicke in Antragslogiken und -systematiken\, so
  dass Sie verstehen\, was einen gelungenen Antrag aus der Perspektive der 
 Begutachtenden ausmacht\, sondern Sie haben überdies Gelegenheit\, die En
 twicklung Ihrer eigenen Projektidee zu einem Antrag in einer unterstützen
 den und motivierenden Atmosphäre voranzutreiben.
LAST-MODIFIED:20221108T135127Z
LOCATION:Online
URL:https://www.uni-marburg.de/de/mara/aktuelles-mara/events/2022/postdocp
 rogramm/emf-drittmittelantraege-schreiben
END:VEVENT
BEGIN:VTIMEZONE
TZID:Europe/Berlin
X-LIC-LOCATION:Europe/Berlin
BEGIN:STANDARD
DTSTART:20221030T020000
TZNAME:CET
TZOFFSETFROM:+0200
TZOFFSETTO:+0100
END:STANDARD
END:VTIMEZONE
END:VCALENDAR
