BEGIN:VCALENDAR
VERSION:2.0
PRODID:-//Plone.org//NONSGML plone.app.event//EN
X-WR-TIMEZONE:Europe/Berlin
BEGIN:VEVENT
SUMMARY:EMF – Online-Einzelcoaching: Feedback zum Antrags-Exposé
DTSTART;VALUE=DATE:20220929
DTEND;VALUE=DATE:20220930
DTSTAMP:20260421T082719Z
UID:e050c3c2d8364659a7e8a1da68aa6981@www.uni-marburg.de
ATTENDEE;CN="Dr. Beate Scholz";ROLE=REQ-PARTICIPANT:Dr. Beate Scholz
ATTENDEE;CN=www.scholz-ctc.de;ROLE=REQ-PARTICIPANT:www.scholz-ctc.de
CREATED:20180605T123353Z
DESCRIPTION:https://www.uni-marburg.de/de/mara/aktuelles-mara/events/2022/
 postdocprogramm/emf-einzelcoaching\nIn dieser Veranstaltung erhalten Sie i
 ndividuelles Feedback zu Ihrem Antrags-Exposé.
LAST-MODIFIED:20220908T083710Z
LOCATION:Online in BigBlueButton
URL:https://www.uni-marburg.de/de/mara/aktuelles-mara/events/2022/postdocp
 rogramm/emf-einzelcoaching
END:VEVENT
END:VCALENDAR
