BEGIN:VCALENDAR
VERSION:2.0
PRODID:-//Plone.org//NONSGML plone.app.event//EN
X-WR-TIMEZONE:Europe/Berlin
BEGIN:VEVENT
SUMMARY:EMF – Führung von Mitarbeitenden – Online event
DTSTART;TZID=Europe/Berlin:20221011T090000
DTEND;TZID=Europe/Berlin:20221011T170000
DTSTAMP:20260420T070307Z
UID:605907fef10d4eac81d30559a7c11731@www.uni-marburg.de
RRULE:FREQ=DAILY;COUNT=2
ATTENDEE;CN="Prof. Dr. Daniel Wrede";ROLE=REQ-PARTICIPANT:Prof. Dr. Daniel
  Wrede
ATTENDEE;CN=www.danielwre.de;ROLE=REQ-PARTICIPANT:www.danielwre.de
CREATED:20181203T210138Z
DESCRIPTION:https://www.uni-marburg.de/de/mara/aktuelles-mara/events/2022/
 postdocprogramm/emf-fuehrung\nDiese zweitägige Veranstaltung schult Sie a
 ls (künftige) Projektleiter/-in im Bereich Ihrer Führungskompetenzen und
  bereitet Sie auf die verantwortungsvollen Aufgaben bei der Steuerung eine
 s Teams vor.
LAST-MODIFIED:20220908T080416Z
LOCATION:Online in BigBlueButton
URL:https://www.uni-marburg.de/de/mara/aktuelles-mara/events/2022/postdocp
 rogramm/emf-fuehrung
END:VEVENT
BEGIN:VTIMEZONE
TZID:Europe/Berlin
X-LIC-LOCATION:Europe/Berlin
BEGIN:DAYLIGHT
DTSTART:20220327T030000
TZNAME:CEST
TZOFFSETFROM:+0100
TZOFFSETTO:+0200
END:DAYLIGHT
END:VTIMEZONE
END:VCALENDAR
